BEGIN:VCALENDAR
VERSION:2.0
PRODID:SchoolNow
CALSCALE:GREGORIAN
BEGIN:VEVENT
UID:2dc63690-dd8f-11ef-b864-0e956362e35d
DTSTAMP:20250128T154728Z
SUMMARY:Boys Junior Varsity Basketball @ Whitesboro
LOCATION:Whitesboro High School Gym
URL;VALUE=URI:https://www.uticaschools.org/departments/athletics/calendar/7
 386143/boys-junior-varsity-basketball-whitesboro
DTSTART:20250110T223000Z
DTEND:20250110T233000Z
END:VEVENT
END:VCALENDAR
