BEGIN:VCALENDAR
VERSION:2.0
PRODID:SchoolNow
CALSCALE:GREGORIAN
BEGIN:VEVENT
UID:2fbebc92-dd8f-11ef-9f3c-0e956362e35d
DTSTAMP:20250128T154732Z
SUMMARY:Boys 7th/8th Wrestling v. Holland Patent\, Vernon-Verona-Sherrill
LOCATION:Perry JH Cafeteria
URL;VALUE=URI:https://www.uticaschools.org/departments/athletics/calendar/7
 386686/boys-7th-8th-wrestling-v-holland-patent-vernon-verona-sherrill
DTSTART:20250108T210000Z
DTEND:20250108T220000Z
END:VEVENT
END:VCALENDAR
