BEGIN:VCALENDAR
VERSION:2.0
PRODID:SchoolNow
CALSCALE:GREGORIAN
BEGIN:VEVENT
UID:309c4422-dd8f-11ef-9563-0e956362e35d
DTSTAMP:20250128T154733Z
SUMMARY:Girls (JFK) 7th/8th Volleyball @ New Hartford
LOCATION:Perry JH Gym
URL;VALUE=URI:https://www.uticaschools.org/departments/athletics/calendar/7
 386837/girls-jfk-7th-8th-volleyball-new-hartford
DTSTART:20250129T210000Z
DTEND:20250129T220000Z
END:VEVENT
END:VCALENDAR
