BEGIN:VCALENDAR
VERSION:2.0
PRODID:SchoolNow
CALSCALE:GREGORIAN
BEGIN:VEVENT
UID:309c514c-dd8f-11ef-bfc7-0e956362e35d
DTSTAMP:20250128T154733Z
SUMMARY:Girls (JFK) 7th/8th Volleyball v. Central Valley Academy (White)
LOCATION:JFK Gym
URL;VALUE=URI:https://www.uticaschools.org/departments/athletics/calendar/7
 386852/girls-jfk-7th-8th-volleyball-v-central-valley-academy-white
DTSTART:20250106T213000Z
DTEND:20250106T223000Z
END:VEVENT
END:VCALENDAR
