BEGIN:VCALENDAR
VERSION:2.0
PRODID:SchoolNow
CALSCALE:GREGORIAN
BEGIN:VEVENT
UID:309c55d4-dd8f-11ef-8974-0e956362e35d
DTSTAMP:20250128T154733Z
SUMMARY:Girls (JFK) 7th/8th Volleyball v. Whitesboro (White)
LOCATION:JFK Gym
URL;VALUE=URI:https://www.uticaschools.org/departments/athletics/calendar/7
 386857/girls-jfk-7th-8th-volleyball-v-whitesboro-white
DTSTART:20250115T213000Z
DTEND:20250115T223000Z
END:VEVENT
END:VCALENDAR
