BEGIN:VCALENDAR
VERSION:2.0
PRODID:SchoolNow
CALSCALE:GREGORIAN
BEGIN:VEVENT
UID:3112d286-dd8f-11ef-8f3c-0e956362e35d
DTSTAMP:20250128T154734Z
SUMMARY:Boys Junior Varsity Volleyball @ Sauquoit Valley
LOCATION:MS Gym
URL;VALUE=URI:https://www.uticaschools.org/departments/athletics/calendar/7
 387018/boys-junior-varsity-volleyball-sauquoit-valley
DTSTART:20250113T223000Z
DTEND:20250113T233000Z
END:VEVENT
END:VCALENDAR
