BEGIN:VCALENDAR
VERSION:2.0
PRODID:SchoolNow
CALSCALE:GREGORIAN
BEGIN:VEVENT
UID:2479dfec-1f1a-11f1-9d28-0a58a9feac02
DTSTAMP:20260330T195547Z
SUMMARY:NO SCHOOL
URL;VALUE=URI:https://www.uticaschools.org/departments/guidance-counseling-
 services/calendar/8915533/no-school
DTSTART:20260408T120000Z
DTEND:20260408T123000Z
END:VEVENT
END:VCALENDAR
