BEGIN:VCALENDAR
VERSION:2.0
PRODID:SchoolNow
CALSCALE:GREGORIAN
BEGIN:VEVENT
UID:4596935c-2e95-11f1-a5e2-0afff2acc7c1
DTSTAMP:20260420T065509Z
SUMMARY:Spring Break
URL;VALUE=URI:https://www.uticaschools.org/schools/king/calendar/8965529/sp
 ring-break
DTSTART;VALUE=DATE:20260406
DTEND;VALUE=DATE:20260411
END:VEVENT
END:VCALENDAR
